BEGIN:VCALENDAR
VERSION:2.0
PRODID:-//Despijove - ECPv5.6.0//NONSGML v1.0//EN
CALSCALE:GREGORIAN
METHOD:PUBLISH
X-WR-CALNAME:Despijove
X-ORIGINAL-URL:https://www.despijove.cat
X-WR-CALDESC:Esdeveniments per Despijove
BEGIN:VTIMEZONE
TZID:Europe/Madrid
BEGIN:DAYLIGHT
TZOFFSETFROM:+0100
TZOFFSETTO:+0200
TZNAME:CEST
DTSTART:20200329T010000
END:DAYLIGHT
BEGIN:STANDARD
TZOFFSETFROM:+0200
TZOFFSETTO:+0100
TZNAME:CET
DTSTART:20201025T010000
END:STANDARD
END:VTIMEZONE
BEGIN:VEVENT
DTSTART;TZID=Europe/Madrid:20200307T220000
DTEND;TZID=Europe/Madrid:20200307T233000
DTSTAMP:20260423T053454
CREATED:20191218T185307Z
LAST-MODIFIED:20191220T181229Z
UID:3881-1583618400-1583623800@www.despijove.cat
SUMMARY:VIII Lila Cabaret
DESCRIPTION:Exhibició i mostra de circ\, música\, màgia\, comèdia i dansa a càrrec de DONES\, presentat per Inés la Maga\, ella és la maga espanyola amb més projecció internacional\, i amb les actuacions de Cia Katapulta (equilibris acrobàtics)\, Diana López (acrobàcia amb pole dance)\, Bomboclad (dansa urbana) i Maribel Martín “La Canija”. \nDurada: 75 minuts \nVenda d’entrades a teatresdespi.cat o Centre Cultural Mercè Rodoreda. \n\n\n	Related
URL:https://www.despijove.cat/event/viii-lila-cabaret/
LOCATION:Centre Cultural Mercè Rodoreda\, Carrer Major\, 69\, Sant Joan Despí\, Barcelona\, 08970
CATEGORIES:Espectacles bule
END:VEVENT
END:VCALENDAR