BEGIN:VCALENDAR
VERSION:2.0
PRODID:-//Despijove - ECPv5.6.0//NONSGML v1.0//EN
CALSCALE:GREGORIAN
METHOD:PUBLISH
X-WR-CALNAME:Despijove
X-ORIGINAL-URL:https://www.despijove.cat
X-WR-CALDESC:Esdeveniments per Despijove
BEGIN:VTIMEZONE
TZID:Europe/Madrid
BEGIN:DAYLIGHT
TZOFFSETFROM:+0100
TZOFFSETTO:+0200
TZNAME:CEST
DTSTART:20200329T010000
END:DAYLIGHT
BEGIN:STANDARD
TZOFFSETFROM:+0200
TZOFFSETTO:+0100
TZNAME:CET
DTSTART:20201025T010000
END:STANDARD
END:VTIMEZONE
BEGIN:VEVENT
DTSTART;TZID=Europe/Madrid:20200608T180000
DTEND;TZID=Europe/Madrid:20200608T190000
DTSTAMP:20260422T174328
CREATED:20200522T094850Z
LAST-MODIFIED:20200607T192444Z
UID:4241-1591639200-1591642800@www.despijove.cat
SUMMARY:Taller iniciació al lettering amb @lunadeseptiembre
DESCRIPTION:La nostra tallerista de manualitats Anna farà un taller de iniciación al lettering per descobrir l’art de dibuixar paraules. \n\n\n	Related
URL:https://www.despijove.cat/event/trobada-debat-lgtbifobia-jitsi/
CATEGORIES:Tallers Trimestrals
END:VEVENT
END:VCALENDAR