BEGIN:VCALENDAR
VERSION:2.0
PRODID:-//Despijove - ECPv5.6.0//NONSGML v1.0//EN
CALSCALE:GREGORIAN
METHOD:PUBLISH
X-WR-CALNAME:Despijove
X-ORIGINAL-URL:https://www.despijove.cat
X-WR-CALDESC:Esdeveniments per Despijove
BEGIN:VTIMEZONE
TZID:Europe/Madrid
BEGIN:DAYLIGHT
TZOFFSETFROM:+0100
TZOFFSETTO:+0200
TZNAME:CEST
DTSTART:20210328T010000
END:DAYLIGHT
BEGIN:STANDARD
TZOFFSETFROM:+0200
TZOFFSETTO:+0100
TZNAME:CET
DTSTART:20211031T010000
END:STANDARD
END:VTIMEZONE
BEGIN:VEVENT
DTSTART;TZID=Europe/Madrid:20210526T190000
DTEND;TZID=Europe/Madrid:20210526T210000
DTSTAMP:20260423T054405
CREATED:20210520T152224Z
LAST-MODIFIED:20210520T152237Z
UID:4836-1622055600-1622062800@www.despijove.cat
SUMMARY:TALLER TAPES I PINTXOS
DESCRIPTION:Noves idees pel teu paladar per sorprendre. \n(de 18 a 35 anys) \nCal inscripció prèvia. \n\n\n	Related
URL:https://www.despijove.cat/event/taller-tapes-i-pintxos/
LOCATION:El Bulevard\, Casal de Joves\, Avinguda de Barcelona\, 83-85\, Sant Joan Despí\, Barcelona\, 08970 \, España
CATEGORIES:Tallers Bule
END:VEVENT
END:VCALENDAR