BEGIN:VCALENDAR
VERSION:2.0
PRODID:-//Despijove - ECPv5.6.0//NONSGML v1.0//EN
CALSCALE:GREGORIAN
METHOD:PUBLISH
X-WR-CALNAME:Despijove
X-ORIGINAL-URL:https://www.despijove.cat
X-WR-CALDESC:Esdeveniments per Despijove
BEGIN:VTIMEZONE
TZID:Europe/Madrid
BEGIN:DAYLIGHT
TZOFFSETFROM:+0100
TZOFFSETTO:+0200
TZNAME:CEST
DTSTART:20210328T010000
END:DAYLIGHT
BEGIN:STANDARD
TZOFFSETFROM:+0200
TZOFFSETTO:+0100
TZNAME:CET
DTSTART:20211031T010000
END:STANDARD
END:VTIMEZONE
BEGIN:VEVENT
DTSTART;TZID=Europe/Madrid:20210317T180000
DTEND;TZID=Europe/Madrid:20210317T190000
DTSTAMP:20260423T002121
CREATED:20210311T090148Z
LAST-MODIFIED:20210312T095925Z
UID:4506-1616004000-1616007600@www.despijove.cat
SUMMARY:TASTEIG DE HIP HOP - STYLE DANCE
DESCRIPTION:Coreografies inspirades amb les noves influències musicals del moment. \n  \n  \n  \n\n\n	Related
URL:https://www.despijove.cat/event/taller-jove-coreografies-de-dansa-urbana/
LOCATION:El Bulevard\, Casal de Joves\, Avinguda de Barcelona\, 83-85\, Sant Joan Despí\, Barcelona\, 08970 \, España
CATEGORIES:Tallers Bule
END:VEVENT
END:VCALENDAR