BEGIN:VCALENDAR
VERSION:2.0
PRODID:-//Despijove - ECPv5.6.0//NONSGML v1.0//EN
CALSCALE:GREGORIAN
METHOD:PUBLISH
X-WR-CALNAME:Despijove
X-ORIGINAL-URL:https://www.despijove.cat
X-WR-CALDESC:Esdeveniments per Despijove
BEGIN:VTIMEZONE
TZID:Europe/Madrid
BEGIN:DAYLIGHT
TZOFFSETFROM:+0100
TZOFFSETTO:+0200
TZNAME:CEST
DTSTART:20210328T010000
END:DAYLIGHT
BEGIN:STANDARD
TZOFFSETFROM:+0200
TZOFFSETTO:+0100
TZNAME:CET
DTSTART:20211031T010000
END:STANDARD
END:VTIMEZONE
BEGIN:VEVENT
DTSTART;TZID=Europe/Madrid:20210108T190000
DTEND;TZID=Europe/Madrid:20210108T210000
DTSTAMP:20260421T171742
CREATED:20210103T230143Z
LAST-MODIFIED:20201222T172512Z
UID:4490-1610132400-1610139600@www.despijove.cat
SUMMARY:Taller Jove: Apunts amb lettering
DESCRIPTION:Aprèn a donar-los un toc creatiu! \n(de 12 a 17 anys) \nCal inscripció prèvia. \n\n\n	Related
URL:https://www.despijove.cat/event/taller-jove-apunts-amb-lettering/
LOCATION:El Bulevard\, Casal de Joves\, Avinguda de Barcelona\, 83-85\, Sant Joan Despí\, Barcelona\, 08970 \, España
CATEGORIES:Tallers Bule
END:VEVENT
END:VCALENDAR