BEGIN:VCALENDAR
VERSION:2.0
PRODID:-//Despijove - ECPv5.6.0//NONSGML v1.0//EN
CALSCALE:GREGORIAN
METHOD:PUBLISH
X-WR-CALNAME:Despijove
X-ORIGINAL-URL:https://www.despijove.cat
X-WR-CALDESC:Esdeveniments per Despijove
BEGIN:VTIMEZONE
TZID:Europe/Madrid
BEGIN:DAYLIGHT
TZOFFSETFROM:+0100
TZOFFSETTO:+0200
TZNAME:CEST
DTSTART:20200329T010000
END:DAYLIGHT
BEGIN:STANDARD
TZOFFSETFROM:+0200
TZOFFSETTO:+0100
TZNAME:CET
DTSTART:20201025T010000
END:STANDARD
END:VTIMEZONE
BEGIN:VEVENT
DTSTART;TZID=Europe/Madrid:20201113T190000
DTEND;TZID=Europe/Madrid:20201113T210000
DTSTAMP:20260420T183526
CREATED:20201023T154120Z
LAST-MODIFIED:20201029T193143Z
UID:4425-1605294000-1605301200@www.despijove.cat
SUMMARY:Taller fem un LO amb neocolors
DESCRIPTION:Descobreix les pastes de textura i els stencils. \nCal inscripció prèvia. \n\n\n	Related
URL:https://www.despijove.cat/event/taller-fem-un-lo-amb-neocolors/
LOCATION:El Bulevard\, Casal de Joves\, Avinguda de Barcelona\, 83-85\, Sant Joan Despí\, Barcelona\, 08970 \, España
CATEGORIES:Tallers Bule
END:VEVENT
END:VCALENDAR