BEGIN:VCALENDAR
VERSION:2.0
PRODID:-//Despijove - ECPv5.6.0//NONSGML v1.0//EN
CALSCALE:GREGORIAN
METHOD:PUBLISH
X-WR-CALNAME:Despijove
X-ORIGINAL-URL:https://www.despijove.cat
X-WR-CALDESC:Esdeveniments per Despijove
BEGIN:VTIMEZONE
TZID:Europe/Madrid
BEGIN:DAYLIGHT
TZOFFSETFROM:+0100
TZOFFSETTO:+0200
TZNAME:CEST
DTSTART:20200329T010000
END:DAYLIGHT
BEGIN:STANDARD
TZOFFSETFROM:+0200
TZOFFSETTO:+0100
TZNAME:CET
DTSTART:20201025T010000
END:STANDARD
END:VTIMEZONE
BEGIN:VEVENT
DTSTART;TZID=Europe/Madrid:20200129T190000
DTEND;TZID=Europe/Madrid:20200129T210000
DTSTAMP:20260417T215421
CREATED:20200105T230009Z
LAST-MODIFIED:20200106T211828Z
UID:3910-1580324400-1580331600@www.despijove.cat
SUMMARY:Taller cuina mexicana
DESCRIPTION:Barreja colors\, sabors i condiments sense oblidar el punt més picant. \nCal inscripció prèvia \n\n\n	Related
URL:https://www.despijove.cat/event/taller-cuina-mexicana-2/
LOCATION:El Bulevard\, Casal de Joves\, Avinguda de Barcelona\, 83-85\, Sant Joan Despí\, Barcelona\, 08970 \, España
CATEGORIES:Tallers Bule
END:VEVENT
END:VCALENDAR