BEGIN:VCALENDAR
VERSION:2.0
PRODID:-//Despijove - ECPv5.6.0//NONSGML v1.0//EN
CALSCALE:GREGORIAN
METHOD:PUBLISH
X-WR-CALNAME:Despijove
X-ORIGINAL-URL:https://www.despijove.cat
X-WR-CALDESC:Esdeveniments per Despijove
BEGIN:VTIMEZONE
TZID:Europe/Madrid
BEGIN:DAYLIGHT
TZOFFSETFROM:+0100
TZOFFSETTO:+0200
TZNAME:CEST
DTSTART:20200329T010000
END:DAYLIGHT
BEGIN:STANDARD
TZOFFSETFROM:+0200
TZOFFSETTO:+0100
TZNAME:CET
DTSTART:20201025T010000
END:STANDARD
END:VTIMEZONE
BEGIN:VEVENT
DTSTART;TZID=Europe/Madrid:20200616T183000
DTEND;TZID=Europe/Madrid:20200616T193000
DTSTAMP:20260422T155812
CREATED:20200522T095104Z
LAST-MODIFIED:20200613T180048Z
UID:4244-1592332200-1592335800@www.despijove.cat
SUMMARY:Trobada-Debat LGTBI+\, I tu\, de quin armario surts? Jitsi
DESCRIPTION:Des d’una plataforma de reunió virtual\, es crearà un enllaç de la reunió per trobar-nos junts amb l’Helena Galé i l’equip del Bule i parlar sobre el tema a tractar. Es facilitarà l’enllaç de la reunió per privat. \n\n\n\n\n\n\n\n\n	Related
URL:https://www.despijove.cat/event/taller-cuina-italiana/
CATEGORIES:Tallers Trimestrals
END:VEVENT
END:VCALENDAR