BEGIN:VCALENDAR
VERSION:2.0
PRODID:-//Despijove - ECPv5.6.0//NONSGML v1.0//EN
CALSCALE:GREGORIAN
METHOD:PUBLISH
X-WR-CALNAME:Despijove
X-ORIGINAL-URL:https://www.despijove.cat
X-WR-CALDESC:Esdeveniments per Despijove
BEGIN:VTIMEZONE
TZID:Europe/Madrid
BEGIN:DAYLIGHT
TZOFFSETFROM:+0100
TZOFFSETTO:+0200
TZNAME:CEST
DTSTART:20200329T010000
END:DAYLIGHT
BEGIN:STANDARD
TZOFFSETFROM:+0200
TZOFFSETTO:+0100
TZNAME:CET
DTSTART:20201025T010000
END:STANDARD
END:VTIMEZONE
BEGIN:VEVENT
DTSTART;TZID=Europe/Madrid:20200219T180000
DTEND;TZID=Europe/Madrid:20200219T193000
DTSTAMP:20260421T070928
CREATED:20200113T183619Z
LAST-MODIFIED:20200127T151317Z
UID:4004-1582135200-1582140600@www.despijove.cat
SUMMARY:Taller: Camps De Treball\, Camps De Solidaritat
DESCRIPTION:TALLER: CAMPS DE TREBALL/CAMPS DE SOLIDARITAT. Que és? Per a què serveix? On puc anar? Dimecres 19 de febrer de 18h a 19:30h.\nGratuït.\nCal inscripció prèvia via mail \noficinajove@sjdespi.net \n\n\n	Related
URL:https://www.despijove.cat/event/taller-camps-de-treball-camps-de-solidaritat/
LOCATION:Oficina Jove\, Jacint Verdaguer\, 27\, Sant Joan Despí\, Barcelona\, 08970\, Espanya
CATEGORIES:Assessories Oficina,Tallers Oficina
END:VEVENT
END:VCALENDAR