BEGIN:VCALENDAR
VERSION:2.0
PRODID:-//Despijove - ECPv5.6.0//NONSGML v1.0//EN
CALSCALE:GREGORIAN
METHOD:PUBLISH
X-WR-CALNAME:Despijove
X-ORIGINAL-URL:https://www.despijove.cat
X-WR-CALDESC:Esdeveniments per Despijove
BEGIN:VTIMEZONE
TZID:Europe/Madrid
BEGIN:DAYLIGHT
TZOFFSETFROM:+0100
TZOFFSETTO:+0200
TZNAME:CEST
DTSTART:20200329T010000
END:DAYLIGHT
BEGIN:STANDARD
TZOFFSETFROM:+0200
TZOFFSETTO:+0100
TZNAME:CET
DTSTART:20201025T010000
END:STANDARD
END:VTIMEZONE
BEGIN:VEVENT
DTSTART;TZID=Europe/Madrid:20200618T180000
DTEND;TZID=Europe/Madrid:20200618T190000
DTSTAMP:20260421T050817
CREATED:20200514T175900Z
LAST-MODIFIED:20200613T180753Z
UID:4254-1592503200-1592506800@www.despijove.cat
SUMMARY:#CHALLENGEMAGIA am el Mag Ramó Canal d'Instagram @ElBulevardSJD
DESCRIPTION:Teníem pendent mostrar un raconet de màgia en el nostre perfil del Bule\, així que gràcies al santjoanenc Ramó\, hem organitzat una dinàmica divertida per poder mostrar aquesta disciplina artística. El directe consistirà en petits jocs de màgia i un challenge molt senzill. \n\n\n\n\n\n	Related
URL:https://www.despijove.cat/event/final-duel-makeup/
CATEGORIES:Campionats Bule
END:VEVENT
END:VCALENDAR