BEGIN:VCALENDAR
VERSION:2.0
PRODID:-//Despijove - ECPv5.6.0//NONSGML v1.0//EN
CALSCALE:GREGORIAN
METHOD:PUBLISH
X-WR-CALNAME:Despijove
X-ORIGINAL-URL:https://www.despijove.cat
X-WR-CALDESC:Esdeveniments per Despijove
BEGIN:VTIMEZONE
TZID:Europe/Madrid
BEGIN:DAYLIGHT
TZOFFSETFROM:+0100
TZOFFSETTO:+0200
TZNAME:CEST
DTSTART:20200329T010000
END:DAYLIGHT
BEGIN:STANDARD
TZOFFSETFROM:+0200
TZOFFSETTO:+0100
TZNAME:CET
DTSTART:20201025T010000
END:STANDARD
END:VTIMEZONE
BEGIN:VEVENT
DTSTART;TZID=Europe/Madrid:20201125T180000
DTEND;TZID=Europe/Madrid:20201125T180000
DTSTAMP:20260420T234713
CREATED:20201023T154858Z
LAST-MODIFIED:20201023T154858Z
UID:4432-1606327200-1606327200@www.despijove.cat
SUMMARY:Dia contra la violència de génere
DESCRIPTION:Publicació a les rrss l’espot realitzat pels i les joves del Bulevard. \n\n\n	Related
URL:https://www.despijove.cat/event/dia-contra-la-violencia-de-genere/
LOCATION:El Bulevard\, Casal de Joves\, Avinguda de Barcelona\, 83-85\, Sant Joan Despí\, Barcelona\, 08970 \, España
CATEGORIES:Campionats Bule
END:VEVENT
END:VCALENDAR