BEGIN:VCALENDAR
VERSION:2.0
PRODID:-//Despijove - ECPv5.6.0//NONSGML v1.0//EN
CALSCALE:GREGORIAN
METHOD:PUBLISH
X-WR-CALNAME:Despijove
X-ORIGINAL-URL:https://www.despijove.cat
X-WR-CALDESC:Esdeveniments per Despijove
BEGIN:VTIMEZONE
TZID:Europe/Madrid
BEGIN:DAYLIGHT
TZOFFSETFROM:+0100
TZOFFSETTO:+0200
TZNAME:CEST
DTSTART:20200329T010000
END:DAYLIGHT
BEGIN:STANDARD
TZOFFSETFROM:+0200
TZOFFSETTO:+0100
TZNAME:CET
DTSTART:20201025T010000
END:STANDARD
END:VTIMEZONE
BEGIN:VEVENT
DTSTART;TZID=Europe/Madrid:20200228T220000
DTEND;TZID=Europe/Madrid:20200228T233000
DTSTAMP:20260423T085230
CREATED:20191218T181920Z
LAST-MODIFIED:20191218T182021Z
UID:3875-1582927200-1582932600@www.despijove.cat
SUMMARY:Concert Niña Pastora
DESCRIPTION:Tribut a Niña Pastori amb Niña Pastora. Un recorregut pels millors èxits d’aquesta artista. \nDurada: 105 minuts. \nVenda d’entrades a teatresdespi.cat o al Centre Cultural Mercè Rodoreda. \n\n\n	Related
URL:https://www.despijove.cat/event/concert-nina-pastora/
LOCATION:El Bulevard\, Casal de Joves\, Avinguda de Barcelona\, 83-85\, Sant Joan Despí\, Barcelona\, 08970 \, España
CATEGORIES:Espectacles bule
END:VEVENT
END:VCALENDAR