BEGIN:VCALENDAR
VERSION:2.0
PRODID:-//Despijove - ECPv5.6.0//NONSGML v1.0//EN
CALSCALE:GREGORIAN
METHOD:PUBLISH
X-WR-CALNAME:Despijove
X-ORIGINAL-URL:https://www.despijove.cat
X-WR-CALDESC:Esdeveniments per Despijove
BEGIN:VTIMEZONE
TZID:Europe/Madrid
BEGIN:DAYLIGHT
TZOFFSETFROM:+0100
TZOFFSETTO:+0200
TZNAME:CEST
DTSTART:20200329T010000
END:DAYLIGHT
BEGIN:STANDARD
TZOFFSETFROM:+0200
TZOFFSETTO:+0100
TZNAME:CET
DTSTART:20201025T010000
END:STANDARD
END:VTIMEZONE
BEGIN:VEVENT
DTSTART;TZID=Europe/Madrid:20200619T180000
DTEND;TZID=Europe/Madrid:20200619T190000
DTSTAMP:20260422T124421
CREATED:20200522T094231Z
LAST-MODIFIED:20200613T175752Z
UID:4230-1592589600-1592593200@www.despijove.cat
SUMMARY:#BucsFestConfinats amb DJ Raúl Aragón Canal d'Instagram @ElBulevardSJD
DESCRIPTION:La música no s’atura i des del #BuleaCasa empenyem la dels grups dels bucs. Cada setmana una actuació des de la seva realitat confinada trencarà el silenci i expressaran l’art que porta a dins.\n\n\n\n\n\n\nRaúl Aragón\, el nostre DJ per excel·lència des de fa bastants anys\, ens explicarà la seva relació amb el món dj i ens donarà alguns tips per saber dinamitzar espectacles. \n\n\n\n\n\n\n\n\n	Related
URL:https://www.despijove.cat/event/concert-adria-raventos-versions-en-acustic/
CATEGORIES:Campionats Bule
END:VEVENT
END:VCALENDAR