BEGIN:VCALENDAR
VERSION:2.0
PRODID:-//Despijove - ECPv5.6.0//NONSGML v1.0//EN
CALSCALE:GREGORIAN
METHOD:PUBLISH
X-WR-CALNAME:Despijove
X-ORIGINAL-URL:https://www.despijove.cat
X-WR-CALDESC:Esdeveniments per Despijove
BEGIN:VTIMEZONE
TZID:Europe/Madrid
BEGIN:DAYLIGHT
TZOFFSETFROM:+0100
TZOFFSETTO:+0200
TZNAME:CEST
DTSTART:20200329T010000
END:DAYLIGHT
BEGIN:STANDARD
TZOFFSETFROM:+0200
TZOFFSETTO:+0100
TZNAME:CET
DTSTART:20201025T010000
END:STANDARD
END:VTIMEZONE
BEGIN:VEVENT
DTSTART;TZID=Europe/Madrid:20200204T160000
DTEND;TZID=Europe/Madrid:20200331T200000
DTSTAMP:20260421T053910
CREATED:20200127T090010Z
LAST-MODIFIED:20200127T150301Z
UID:3479-1580832000-1585684800@www.despijove.cat
SUMMARY:ASSESSORIA DE SALUT
DESCRIPTION:Els assessoraments són el dimarts i duren 45 minuts aproximadament. Ets pots inscriure a les 16h\, a les 17h\, a les 18h i a les 19h. En el moment de formalitzar la inscripció hauràs de seleccionar el dia i hora i et consultarem en què et podem ajudar durant l’assessoria. \n  \n  \n\n\n	Related
URL:https://www.despijove.cat/event/assessoria-de-salut-76/
LOCATION:Oficina Jove\, Jacint Verdaguer\, 27\, Sant Joan Despí\, Barcelona\, 08970\, Espanya
CATEGORIES:Assessories Oficina
ORGANIZER;CN="Oficina%20Jove":MAILTO:oficinajove@sjdespi.cat
END:VEVENT
END:VCALENDAR